BEGIN:VCALENDAR
VERSION:2.0
PRODID:-//Your Dreams &amp; Goals - ECPv6.9.1//NONSGML v1.0//EN
CALSCALE:GREGORIAN
METHOD:PUBLISH
X-ORIGINAL-URL:https://dreamthegoal.com
X-WR-CALDESC:Events for Your Dreams &amp; Goals
REFRESH-INTERVAL;VALUE=DURATION:PT1H
X-Robots-Tag:noindex
X-PUBLISHED-TTL:PT1H
BEGIN:VTIMEZONE
TZID:America/Los_Angeles
BEGIN:DAYLIGHT
TZOFFSETFROM:-0800
TZOFFSETTO:-0700
TZNAME:PDT
DTSTART:20230312T100000
END:DAYLIGHT
BEGIN:STANDARD
TZOFFSETFROM:-0700
TZOFFSETTO:-0800
TZNAME:PST
DTSTART:20231105T090000
END:STANDARD
END:VTIMEZONE
BEGIN:VEVENT
DTSTART;TZID=America/Los_Angeles:20230202T190000
DTEND;TZID=America/Los_Angeles:20230216T210000
DTSTAMP:20260423T224849
CREATED:20220730T045357Z
LAST-MODIFIED:20230309T194014Z
UID:6723-1675364400-1676581200@dreamthegoal.com
SUMMARY:Embrace Your Unique Giftedness
DESCRIPTION:MBTI Certified Logo\n\n\n\n\n\nThursdays 8/2/2022 – 8/16/2022 @ 7:00-9:00pm \n\n\n\nTake the class “Embrace Your Unique Giftedeness” to understand and appreciate how you are uniquely gifted as a result of your in-born personality. Take the Myers Briggs Type Indicator (MBTI)\, the most popular and widely-used personality inventory in the world\, from an experienced and certified administrator. This new understanding of yourself and others relates to so many important areas of your life\, including personal growth\, spirituality\, education\, career\, communication\, relationships\, teams\, and living in today’s changing world. The more you know about yourself\, the better equipped you are to enjoy life\, make informed decisions\, explore opportunities and maximize your potential in all areas of your life. When possible\, couples and families (16+) are encouraged to attend together. A $50 materials fee is due to the instructor on first day. \n\n\n\nClick here to download flyer \n\n\n\nhttps://recreation.chinohills.org/wbwsc/webtrac.wsc/iteminfo.html?Module=AR&FMID=25134440
URL:https://dreamthegoal.com/event/embrace-your-unique-giftedness/
LOCATION:City of Chino Hills Community Center\, 14250 Peyton Drive\, Chino Hills\, CA\, 91709\, United States
CATEGORIES:City of Chino Hills
END:VEVENT
END:VCALENDAR